BEGIN:VCALENDAR
VERSION:2.0
PRODID:-//Bethel Bergthaler Mennonite Church - ECPv5.12.2//NONSGML v1.0//EN
CALSCALE:GREGORIAN
METHOD:PUBLISH
X-WR-CALNAME:Bethel Bergthaler Mennonite Church
X-ORIGINAL-URL:https://ourbethelchurch.com
X-WR-CALDESC:Events for Bethel Bergthaler Mennonite Church
BEGIN:VTIMEZONE
TZID:America/Winnipeg
BEGIN:DAYLIGHT
TZOFFSETFROM:-0600
TZOFFSETTO:-0500
TZNAME:CDT
DTSTART:20230312T080000
END:DAYLIGHT
BEGIN:STANDARD
TZOFFSETFROM:-0500
TZOFFSETTO:-0600
TZNAME:CST
DTSTART:20231105T070000
END:STANDARD
END:VTIMEZONE
BEGIN:VEVENT
DTSTART;TZID=America/Winnipeg:20230919T190000
DTEND;TZID=America/Winnipeg:20230919T210000
DTSTAMP:20260424T134750
CREATED:20230908T162114Z
LAST-MODIFIED:20230908T162114Z
UID:13122-1695150000-1695157200@ourbethelchurch.com
SUMMARY:Baby/Bridal Shower
DESCRIPTION:Join us for a Baby/Bridal shower on Tuesday\, Sept 19 @ 7pm! Jennifer Peters (Bryson Scott born June 27)\, Madison Hildebrand (Drew Felix born July 26) & Ashley Macdonald (fiancé – Dustin Letkeman). \n 
URL:https://ourbethelchurch.com/event/baby-bridal-shower-3/
CATEGORIES:Women's Events
END:VEVENT
END:VCALENDAR