BEGIN:VCALENDAR
VERSION:2.0
PRODID:-//Bethel Bergthaler Mennonite Church - ECPv5.12.2//NONSGML v1.0//EN
CALSCALE:GREGORIAN
METHOD:PUBLISH
X-WR-CALNAME:Bethel Bergthaler Mennonite Church
X-ORIGINAL-URL:https://ourbethelchurch.com
X-WR-CALDESC:Events for Bethel Bergthaler Mennonite Church
BEGIN:VTIMEZONE
TZID:America/Winnipeg
BEGIN:DAYLIGHT
TZOFFSETFROM:-0600
TZOFFSETTO:-0500
TZNAME:CDT
DTSTART:20200308T080000
END:DAYLIGHT
BEGIN:STANDARD
TZOFFSETFROM:-0500
TZOFFSETTO:-0600
TZNAME:CST
DTSTART:20201101T070000
END:STANDARD
END:VTIMEZONE
BEGIN:VEVENT
DTSTART;TZID=America/Winnipeg:20201004T110000
DTEND;TZID=America/Winnipeg:20201004T170000
DTSTAMP:20260423T065714
CREATED:20200916T164535Z
LAST-MODIFIED:20210201T045944Z
UID:7710-1601809200-1601830800@ourbethelchurch.com
SUMMARY:B. Falk Care Group - kitchen/gym
DESCRIPTION:
URL:https://ourbethelchurch.com/event/b-falk-care-group-kitchen-gym/
CATEGORIES:Care Groups
END:VEVENT
END:VCALENDAR