BEGIN:VCALENDAR
VERSION:2.0
PRODID:-//Bethel Bergthaler Mennonite Church - ECPv5.12.2//NONSGML v1.0//EN
CALSCALE:GREGORIAN
METHOD:PUBLISH
X-WR-CALNAME:Bethel Bergthaler Mennonite Church
X-ORIGINAL-URL:https://ourbethelchurch.com
X-WR-CALDESC:Events for Bethel Bergthaler Mennonite Church
BEGIN:VTIMEZONE
TZID:America/Winnipeg
BEGIN:DAYLIGHT
TZOFFSETFROM:-0600
TZOFFSETTO:-0500
TZNAME:CDT
DTSTART:20220313T080000
END:DAYLIGHT
BEGIN:STANDARD
TZOFFSETFROM:-0500
TZOFFSETTO:-0600
TZNAME:CST
DTSTART:20221106T070000
END:STANDARD
END:VTIMEZONE
BEGIN:VEVENT
DTSTART;TZID=America/Winnipeg:20220126T191500
DTEND;TZID=America/Winnipeg:20220126T204500
DTSTAMP:20260423T115530
CREATED:20220118T145858Z
LAST-MODIFIED:20220118T145858Z
UID:11758-1643224500-1643229900@ourbethelchurch.com
SUMMARY:Awana - Sparks & TNT
DESCRIPTION:
URL:https://ourbethelchurch.com/event/awana-sparks-tnt-4/
CATEGORIES:Awana
END:VEVENT
END:VCALENDAR