BEGIN:VCALENDAR
VERSION:2.0
PRODID:-//Bethel Bergthaler Mennonite Church - ECPv5.12.2//NONSGML v1.0//EN
CALSCALE:GREGORIAN
METHOD:PUBLISH
X-WR-CALNAME:Bethel Bergthaler Mennonite Church
X-ORIGINAL-URL:https://ourbethelchurch.com
X-WR-CALDESC:Events for Bethel Bergthaler Mennonite Church
BEGIN:VTIMEZONE
TZID:America/Winnipeg
BEGIN:DAYLIGHT
TZOFFSETFROM:-0600
TZOFFSETTO:-0500
TZNAME:CDT
DTSTART:20220313T080000
END:DAYLIGHT
BEGIN:STANDARD
TZOFFSETFROM:-0500
TZOFFSETTO:-0600
TZNAME:CST
DTSTART:20221106T070000
END:STANDARD
END:VTIMEZONE
BEGIN:VEVENT
DTSTART;TZID=America/Winnipeg:20220323T190000
DTEND;TZID=America/Winnipeg:20220323T210000
DTSTAMP:20260423T124513
CREATED:20220309T153026Z
LAST-MODIFIED:20220309T153036Z
UID:11960-1648062000-1648069200@ourbethelchurch.com
SUMMARY:Awana Grand Prix
DESCRIPTION:More details to come.
URL:https://ourbethelchurch.com/event/awana-grand-prix-7/
CATEGORIES:Awana
END:VEVENT
END:VCALENDAR