BEGIN:VCALENDAR
VERSION:2.0
PRODID:-//Bethel Bergthaler Mennonite Church - ECPv5.12.2//NONSGML v1.0//EN
CALSCALE:GREGORIAN
METHOD:PUBLISH
X-WR-CALNAME:Bethel Bergthaler Mennonite Church
X-ORIGINAL-URL:https://ourbethelchurch.com
X-WR-CALDESC:Events for Bethel Bergthaler Mennonite Church
BEGIN:VTIMEZONE
TZID:America/Winnipeg
BEGIN:DAYLIGHT
TZOFFSETFROM:-0600
TZOFFSETTO:-0500
TZNAME:CDT
DTSTART:20230312T080000
END:DAYLIGHT
BEGIN:STANDARD
TZOFFSETFROM:-0500
TZOFFSETTO:-0600
TZNAME:CST
DTSTART:20231105T070000
END:STANDARD
END:VTIMEZONE
BEGIN:VEVENT
DTSTART;TZID=America/Winnipeg:20231129T191500
DTEND;TZID=America/Winnipeg:20231129T204500
DTSTAMP:20260421T124211
CREATED:20231010T152140Z
LAST-MODIFIED:20231010T152156Z
UID:13259-1701285300-1701290700@ourbethelchurch.com
SUMMARY:Awana
DESCRIPTION:Pajama Day!
URL:https://ourbethelchurch.com/event/awana-171/
CATEGORIES:Awana
END:VEVENT
END:VCALENDAR