BEGIN:VCALENDAR
VERSION:2.0
PRODID:-//Bethel Bergthaler Mennonite Church - ECPv5.12.2//NONSGML v1.0//EN
CALSCALE:GREGORIAN
METHOD:PUBLISH
X-WR-CALNAME:Bethel Bergthaler Mennonite Church
X-ORIGINAL-URL:https://ourbethelchurch.com
X-WR-CALDESC:Events for Bethel Bergthaler Mennonite Church
BEGIN:VTIMEZONE
TZID:America/Winnipeg
BEGIN:DAYLIGHT
TZOFFSETFROM:-0600
TZOFFSETTO:-0500
TZNAME:CDT
DTSTART:20150308T080000
END:DAYLIGHT
BEGIN:STANDARD
TZOFFSETFROM:-0500
TZOFFSETTO:-0600
TZNAME:CST
DTSTART:20151101T070000
END:STANDARD
END:VTIMEZONE
BEGIN:VEVENT
DTSTART;TZID=America/Winnipeg:20150920T080000
DTEND;TZID=America/Winnipeg:20150920T170000
DTSTAMP:20260420T111716
CREATED:20150904T173517Z
LAST-MODIFIED:20150904T173517Z
UID:9969-1442736000-1442768400@ourbethelchurch.com
SUMMARY:Amazing Race
DESCRIPTION:Amazing Race for young adults (ages 18-30 or so).  Time and details TBD.\nPlan to join us . . .it’s gonna be epic!!!
URL:https://ourbethelchurch.com/event/amazing-race-2/
CATEGORIES:Young Adults
END:VEVENT
END:VCALENDAR