BEGIN:VCALENDAR
VERSION:2.0
PRODID:-//Bethel Bergthaler Mennonite Church - ECPv5.12.2//NONSGML v1.0//EN
CALSCALE:GREGORIAN
METHOD:PUBLISH
X-WR-CALNAME:Bethel Bergthaler Mennonite Church
X-ORIGINAL-URL:https://ourbethelchurch.com
X-WR-CALDESC:Events for Bethel Bergthaler Mennonite Church
BEGIN:VTIMEZONE
TZID:America/Winnipeg
BEGIN:DAYLIGHT
TZOFFSETFROM:-0600
TZOFFSETTO:-0500
TZNAME:CDT
DTSTART:20230312T080000
END:DAYLIGHT
BEGIN:STANDARD
TZOFFSETFROM:-0500
TZOFFSETTO:-0600
TZNAME:CST
DTSTART:20231105T070000
END:STANDARD
END:VTIMEZONE
BEGIN:VEVENT
DTSTART;TZID=America/Winnipeg:20230316T190000
DTEND;TZID=America/Winnipeg:20230316T210000
DTSTAMP:20260422T102902
CREATED:20230214T172139Z
LAST-MODIFIED:20230214T172139Z
UID:12770-1678993200-1679000400@ourbethelchurch.com
SUMMARY:AGM
DESCRIPTION:
URL:https://ourbethelchurch.com/event/agm/
CATEGORIES:Meetings
END:VEVENT
END:VCALENDAR